BEGIN:VCALENDAR
VERSION:2.0
PRODID:-//jEvents 2.0 for Joomla//EN
CALSCALE:GREGORIAN
METHOD:PUBLISH
BEGIN:VTIMEZONE
TZID:Europe/Berlin
BEGIN:STANDARD
DTSTART:20221231T170000
RDATE:20230326T030000
TZOFFSETFROM:+0200
TZOFFSETTO:+0100
TZNAME:Europe/Berlin CET
END:STANDARD
BEGIN:STANDARD
DTSTART:20231029T020000
RDATE:20240331T030000
TZOFFSETFROM:+0200
TZOFFSETTO:+0100
TZNAME:Europe/Berlin CET
END:STANDARD
BEGIN:STANDARD
DTSTART:20241027T020000
RDATE:20250330T030000
TZOFFSETFROM:+0200
TZOFFSETTO:+0100
TZNAME:Europe/Berlin CET
END:STANDARD
BEGIN:STANDARD
DTSTART:20251026T020000
RDATE:20260329T030000
TZOFFSETFROM:+0200
TZOFFSETTO:+0100
TZNAME:Europe/Berlin CET
END:STANDARD
BEGIN:STANDARD
DTSTART:20261025T020000
RDATE:20270328T030000
TZOFFSETFROM:+0200
TZOFFSETTO:+0100
TZNAME:Europe/Berlin CET
END:STANDARD
BEGIN:DAYLIGHT
DTSTART:20230326T030000
RDATE:20231029T020000
TZOFFSETFROM:+0100
TZOFFSETTO:+0200
TZNAME:Europe/Berlin CEST
END:DAYLIGHT
BEGIN:DAYLIGHT
DTSTART:20240331T030000
RDATE:20241027T020000
TZOFFSETFROM:+0100
TZOFFSETTO:+0200
TZNAME:Europe/Berlin CEST
END:DAYLIGHT
BEGIN:DAYLIGHT
DTSTART:20250330T030000
RDATE:20251026T020000
TZOFFSETFROM:+0100
TZOFFSETTO:+0200
TZNAME:Europe/Berlin CEST
END:DAYLIGHT
BEGIN:DAYLIGHT
DTSTART:20260329T030000
RDATE:20261025T020000
TZOFFSETFROM:+0100
TZOFFSETTO:+0200
TZNAME:Europe/Berlin CEST
END:DAYLIGHT
END:VTIMEZONE
BEGIN:VEVENT
UID:19418ef6d14867fab6c793c39bf4d1a0
CATEGORIES:Musikalische Vesper | "Klangzeit"
CREATED:20231231T155435
SUMMARY:MUSIKALISCHE VESPER zum Neujahrstag | Petra Köhs, Violoncello | Andreas Köhs, Orgel
LOCATION:: Dreikönigskirche Frankfurt am Main (Sachsenhäuser Ufer | Nähe Eiserner St
 eg)
URL;VALUE=URI:https://www.kirchenmusik-dreikoenig.de/de/konzertprogramm/konzertkalender/E
 ventdetail/208/-/musikalische-vesper-zum-neujahrstag-petra-koehs-violoncell
 o-andreas-koehs-orgel?tmpl=component
DESCRIPTION:Montag, 01.01.2024, 17:00 Uhr, \nDreikönigskirche Frankfurt am Main\n\nMusi
 kalische Vesper zum Neujahrstag\n\nPetra Köhs | Violoncello\nAndreas Köhs |
  Orgel\n Dieser Event wurde importiert von: https://www.kirchenmusik-dreiko
 enig.de/de/konzertprogramm/konzertkalender/Eventdetail/208/-/musikalische-v
 esper-zum-neujahrstag-petra-koehs-violoncello-andreas-koehs-orgel?tmpl=comp
 onent (https://www.kirchenmusik-dreikoenig.de/de/konzertprogramm/konzertkal
 ender/Eventdetail/208/-/musikalische-vesper-zum-neujahrstag-petra-koehs-vio
 loncello-andreas-koehs-orgel?tmpl=component)
X-ALT-DESC;FMTTYPE=text/html:<p style="text-align: left;"><strong>Montag, 01.01.2024, 17:00 Uhr, <br /><
 /strong><strong><a title="Dreikönigskirche Frankfurt am Main (Sachsenhäuser
  Mainufer, Nähe Eiserner Steg)">Dreikönigskirche Frankfurt am Main</a></str
 ong><strong><br /></strong></p><p style="text-align: left;"><strong>Musikal
 ische Vesper zum Neujahrstag<br /></strong></p><p style="text-align: left;"
 >Petra Köhs | Violoncello<br />Andreas Köhs | Orgel</p> <a href="https://ww
 w.kirchenmusik-dreikoenig.de/de/konzertprogramm/konzertkalender/Eventdetail
 /208/-/musikalische-vesper-zum-neujahrstag-petra-koehs-violoncello-andreas-
 koehs-orgel?tmpl=component">Dieser Event wurde importiert von: https://www.
 kirchenmusik-dreikoenig.de/de/konzertprogramm/konzertkalender/Eventdetail/2
 08/-/musikalische-vesper-zum-neujahrstag-petra-koehs-violoncello-andreas-ko
 ehs-orgel?tmpl=component</a>DTSTAMP:20260424T182138
DTSTART;TZID=Europe/Berlin:20240101T170000
DTEND;TZID=Europe/Berlin:20240101T174500
SEQUENCE:0
TRANSP:OPAQUE
END:VEVENT
END:VCALENDAR