BEGIN:VCALENDAR
VERSION:2.0
PRODID:-//jEvents 2.0 for Joomla//EN
CALSCALE:GREGORIAN
METHOD:PUBLISH
BEGIN:VTIMEZONE
TZID:Europe/Berlin
BEGIN:STANDARD
DTSTART:20230324T180000
RDATE:20230326T030000
TZOFFSETFROM:+0200
TZOFFSETTO:+0100
TZNAME:Europe/Berlin CET
END:STANDARD
BEGIN:STANDARD
DTSTART:20231029T020000
RDATE:20240331T030000
TZOFFSETFROM:+0200
TZOFFSETTO:+0100
TZNAME:Europe/Berlin CET
END:STANDARD
BEGIN:STANDARD
DTSTART:20241027T020000
RDATE:20250330T030000
TZOFFSETFROM:+0200
TZOFFSETTO:+0100
TZNAME:Europe/Berlin CET
END:STANDARD
BEGIN:STANDARD
DTSTART:20251026T020000
RDATE:20260329T030000
TZOFFSETFROM:+0200
TZOFFSETTO:+0100
TZNAME:Europe/Berlin CET
END:STANDARD
BEGIN:STANDARD
DTSTART:20261025T020000
RDATE:20270328T030000
TZOFFSETFROM:+0200
TZOFFSETTO:+0100
TZNAME:Europe/Berlin CET
END:STANDARD
BEGIN:DAYLIGHT
DTSTART:20230326T030000
RDATE:20231029T020000
TZOFFSETFROM:+0100
TZOFFSETTO:+0200
TZNAME:Europe/Berlin CEST
END:DAYLIGHT
BEGIN:DAYLIGHT
DTSTART:20240331T030000
RDATE:20241027T020000
TZOFFSETFROM:+0100
TZOFFSETTO:+0200
TZNAME:Europe/Berlin CEST
END:DAYLIGHT
BEGIN:DAYLIGHT
DTSTART:20250330T030000
RDATE:20251026T020000
TZOFFSETFROM:+0100
TZOFFSETTO:+0200
TZNAME:Europe/Berlin CEST
END:DAYLIGHT
BEGIN:DAYLIGHT
DTSTART:20260329T030000
RDATE:20261025T020000
TZOFFSETFROM:+0100
TZOFFSETTO:+0200
TZNAME:Europe/Berlin CEST
END:DAYLIGHT
END:VTIMEZONE
BEGIN:VEVENT
UID:a90fff375857a661a90aa2b1a2d4b1d8
CATEGORIES:Oratorienkonzert zur Passion
CREATED:20231231T161103
SUMMARY:BACH | JOHANNES-PASSION in der DREIKÖNIGSKIRCHE || KURT-THOMAS-KAMMERCHOR
LOCATION:: Dreikönigskirche Frankfurt am Main (Sachsenhäuser Ufer | Nähe Eiserner St
 eg)
URL;VALUE=URI:https://www.kirchenmusik-dreikoenig.de/de/konzertprogramm/konzertkalender/E
 ventdetail/221/-/bach-johannes-passion-in-der-dreikoenigskirche-kurt-thomas
 -kammerchor?tmpl=component
DESCRIPTION:Sonntag, 24.03.2024, 18:00 Uhr\n(Palmsonntag)\nDreikönigskirche Frankfurt a
 m Main\nJohann Sebastian Bach (1685-1750)\nJohannes-Passion | BWV 245(300 J
 ahre Uraufführung der Johannes-Passion)\nAnnemarie Pfahler | Sopran\nJulia 
 Diefenbach | Alt\nGeorg Poplutz | Tenor\nJohannes Hill | Bass (Jesus)\nKons
 tantin Paganetti | Bass (Arien)\nKURT-THOMAS-KAMMERCHOR\nwww.kurt-thomas-ka
 mmerchor.de (http://www.kurt-thomas-kammerchor.de)\nTelemann-Ensemble Frank
 furt\nAndreas Köhs | Leitung\n Tickets: 30 EUR, ermäßigt 20 EUR (Abendkasse
 )\n Tickets sind an der Abendkasse erhältlich ab 17:00 Uhr!\n Ticketsvorver
 kauf:  via Frankfurt-Ticket RheinMain (zzgl. Vorverkaufsgebühr):\nTicket-On
 line: BACH | Johannes-Passion | 24.03.2024 | Dreikönigskirche (https://www.
 frankfurtticket.de/tickets/j-s-bach-johannespassion-bwv-245-5887.67399/)\n 
 Dieser Event wurde importiert von: https://www.kirchenmusik-dreikoenig.de/d
 e/konzertprogramm/konzertkalender/Eventdetail/221/-/bach-johannes-passion-i
 n-der-dreikoenigskirche-kurt-thomas-kammerchor?tmpl=component
X-ALT-DESC;FMTTYPE=text/html:<p style="text-align: left;"><strong>Sonntag, 24.03.2024, 18:00 Uhr<br /></
 strong>(Palmsonntag)<strong><br /><a title="Dreikönigskirche Frankfurt am M
 ain (Sachsenhäuser Mainufer, Nähe Eiserner Steg)">Dreikönigskirche Frankfur
 t am Main</a><span></span></strong></p><h4 style="text-align: left;"><stron
 g>Johann Sebastian Bach </strong>(1685-1750)<br /><strong>Johannes-Passion 
 | BWV 245</strong></h4><p style="text-align: left;">(300 Jahre Uraufführung
  der Johannes-Passion)</p><p style="text-align: left;">Annemarie Pfahler | 
 Sopran<br />Julia Diefenbach | Alt<br />Georg Poplutz&nbsp;| Tenor<br />Joh
 annes Hill | Bass (Jesus)<br />Konstantin Paganetti | Bass (Arien)</p><p st
 yle="text-align: left;">KURT-THOMAS-KAMMERCHOR<br /><a href="http://www.kur
 t-thomas-kammerchor.de" target="_blank" rel="alternate noopener noreferrer"
  title="www.kurt-thomas-kammerchor.de">www.kurt-thomas-kammerchor.de</a><br
  />Telemann-Ensemble Frankfurt<br />Andreas Köhs | Leitung</p><p style="tex
 t-align: left;"><strong><i class="fas fa-ticket"></i> Tickets</strong>: 30 
 EUR, ermäßigt 20 EUR (Abendkasse)<br /><span style="color: #ff00ff;"><stron
 g><i class="far fa-hand-point-right fa-1x"></i> Tickets sind an der Abendka
 sse erhältlich ab 17:00 Uhr!</strong></span><br /><strong><i class="fas fa-
 ticket"></i> Ticketsvorverkauf:&nbsp;</strong> via Frankfurt-Ticket RheinMa
 in (zzgl. Vorverkaufsgebühr):<br /><a href="https://www.frankfurtticket.de/
 tickets/j-s-bach-johannespassion-bwv-245-5887.67399/" target="_blank" rel="
 noopener" class="btn btn-sm btn-primary" title="Ticket-Online: BACH | Johan
 nes-Passion | 24.03.2024 | Dreikönigskirche || via Frankfurt-Ticket RheinMa
 in (zzgl. Vorverkaufsgebühr)"><strong>Ticket-Online: BACH | Johannes-Passio
 n | 24.03.2024 | Dreikönigskirche</strong></a></p><hr /> <a href="https://w
 ww.kirchenmusik-dreikoenig.de/de/konzertprogramm/konzertkalender/Eventdetai
 l/221/-/bach-johannes-passion-in-der-dreikoenigskirche-kurt-thomas-kammerch
 or?tmpl=component">Dieser Event wurde importiert von: https://www.kirchenmu
 sik-dreikoenig.de/de/konzertprogramm/konzertkalender/Eventdetail/221/-/bach
 -johannes-passion-in-der-dreikoenigskirche-kurt-thomas-kammerchor?tmpl=comp
 onent</a>DTSTAMP:20260424T182143
DTSTART;TZID=Europe/Berlin:20240324T180000
DTEND;TZID=Europe/Berlin:20240324T193000
SEQUENCE:0
TRANSP:OPAQUE
END:VEVENT
END:VCALENDAR