BEGIN:VCALENDAR
VERSION:2.0
PRODID:-//jEvents 2.0 for Joomla//EN
CALSCALE:GREGORIAN
METHOD:PUBLISH
BEGIN:VTIMEZONE
TZID:Europe/Berlin
BEGIN:STANDARD
DTSTART:20230310T110000
RDATE:20230326T030000
TZOFFSETFROM:+0200
TZOFFSETTO:+0100
TZNAME:Europe/Berlin CET
END:STANDARD
BEGIN:STANDARD
DTSTART:20231029T020000
RDATE:20240331T030000
TZOFFSETFROM:+0200
TZOFFSETTO:+0100
TZNAME:Europe/Berlin CET
END:STANDARD
BEGIN:STANDARD
DTSTART:20241027T020000
RDATE:20250330T030000
TZOFFSETFROM:+0200
TZOFFSETTO:+0100
TZNAME:Europe/Berlin CET
END:STANDARD
BEGIN:STANDARD
DTSTART:20251026T020000
RDATE:20260329T030000
TZOFFSETFROM:+0200
TZOFFSETTO:+0100
TZNAME:Europe/Berlin CET
END:STANDARD
BEGIN:STANDARD
DTSTART:20261025T020000
RDATE:20270328T030000
TZOFFSETFROM:+0200
TZOFFSETTO:+0100
TZNAME:Europe/Berlin CET
END:STANDARD
BEGIN:DAYLIGHT
DTSTART:20230326T030000
RDATE:20231029T020000
TZOFFSETFROM:+0100
TZOFFSETTO:+0200
TZNAME:Europe/Berlin CEST
END:DAYLIGHT
BEGIN:DAYLIGHT
DTSTART:20240331T030000
RDATE:20241027T020000
TZOFFSETFROM:+0100
TZOFFSETTO:+0200
TZNAME:Europe/Berlin CEST
END:DAYLIGHT
BEGIN:DAYLIGHT
DTSTART:20250330T030000
RDATE:20251026T020000
TZOFFSETFROM:+0100
TZOFFSETTO:+0200
TZNAME:Europe/Berlin CEST
END:DAYLIGHT
BEGIN:DAYLIGHT
DTSTART:20260329T030000
RDATE:20261025T020000
TZOFFSETFROM:+0100
TZOFFSETTO:+0200
TZNAME:Europe/Berlin CEST
END:DAYLIGHT
END:VTIMEZONE
BEGIN:VEVENT
UID:c3dc152a49a5d39072ff3e436e4bbec4
CATEGORIES:Kantatengottesdienst
CREATED:20231231T161557
SUMMARY:KANTATENGOTTESDIENST | BWV 57 || ERLÖSERGEMEINDE Frankfurt-Oberrad
LOCATION:: Erlösergemeinde Oberrad (Wiener Straße 23\, 60599 Frankfurt-Oberrad)
URL;VALUE=URI:https://www.kirchenmusik-dreikoenig.de/de/konzertprogramm/konzertkalender/E
 ventdetail/224/-/kantatengottesdienst-bwv-57-erloesergemeinde-frankfurt-obe
 rrad?tmpl=component
DESCRIPTION:Sonntag, 10.03.2024, 11:00 Uhr\n(Laetare)\nEv.-Luth. Erlösergemeinde Frankf
 urt am Main-Oberrad (https://erloesergemeinde-oberrad.ekhn.de/startseite.ht
 ml)\n(Wiener Straße 23, 60599 Frankfurt)\nKantatengottesdienst Johann Sebas
 tian Bach (1685-1750)\n"Selig ist der Mann, der die Anfechtung erduldet" | 
 BWV 57\nNatasha Goldberg | Sopran\nChristoph Kögel | Bass\nTelemann-Ensembl
 e Frankfurt\nAndreas Köhs | Leitung und Truhenorgel\nPfarrerin Anne-Katrin 
 Helms | Liturgie und Predigt\n \n Dieser Event wurde importiert von: https:
 //www.kirchenmusik-dreikoenig.de/de/konzertprogramm/konzertkalender/Eventde
 tail/224/-/kantatengottesdienst-bwv-57-erloesergemeinde-frankfurt-oberrad?t
 mpl=component (https://www.kirchenmusik-dreikoenig.de/de/konzertprogramm/ko
 nzertkalender/Eventdetail/224/-/kantatengottesdienst-bwv-57-erloesergemeind
 e-frankfurt-oberrad?tmpl=component)
X-ALT-DESC;FMTTYPE=text/html:<p style="text-align: left;"><strong>Sonntag, 10.03.2024, 11:00 Uhr</strong
 ><br />(Laetare)<strong><br /><a href="https://erloesergemeinde-oberrad.ekh
 n.de/startseite.html" target="_blank" rel="noopener noreferrer" title="Ev.-
 Luth. Erlösergemeinde Frankfurt am Main-Oberrad (Wiener Straße 23, 60599 Fr
 ankfurt-Oberrad)">Ev.-Luth. Erlösergemeinde Frankfurt am Main-Oberrad</a><a
  title="Ev.-Luth. Erlösergemeinde Frankfurt am Main-Oberrad (Wiener Straße 
 23, 60499 Frankfurt)"><br /></a></strong>(Wiener Straße 23, 60599 Frankfurt
 )</p><h4 style="text-align: left;"><strong>Kantatengottesdienst&nbsp;</stro
 ng></h4><p style="text-align: left;"><strong>Johann Sebastian Bach&nbsp;</s
 trong>(1685-1750)<br /><strong>"Selig ist der Mann, der die Anfechtung erdu
 ldet" </strong>| BWV 57<br />Natasha Goldberg | Sopran<br />Christoph Kögel
  | Bass<br />Telemann-Ensemble Frankfurt<br />Andreas Köhs | Leitung und Tr
 uhenorgel<br />Pfarrerin Anne-Katrin Helms | Liturgie und Predigt</p><p sty
 le="text-align: left;">&nbsp;</p><hr /> <a href="https://www.kirchenmusik-d
 reikoenig.de/de/konzertprogramm/konzertkalender/Eventdetail/224/-/kantateng
 ottesdienst-bwv-57-erloesergemeinde-frankfurt-oberrad?tmpl=component">Diese
 r Event wurde importiert von: https://www.kirchenmusik-dreikoenig.de/de/kon
 zertprogramm/konzertkalender/Eventdetail/224/-/kantatengottesdienst-bwv-57-
 erloesergemeinde-frankfurt-oberrad?tmpl=component</a>DTSTAMP:20260424T182148
DTSTART;TZID=Europe/Berlin:20240310T110000
DTEND;TZID=Europe/Berlin:20240310T120000
SEQUENCE:0
TRANSP:OPAQUE
END:VEVENT
END:VCALENDAR