BEGIN:VCALENDAR
VERSION:2.0
PRODID:-//jEvents 2.0 for Joomla//EN
CALSCALE:GREGORIAN
METHOD:PUBLISH
BEGIN:VTIMEZONE
TZID:Europe/Berlin
BEGIN:STANDARD
DTSTART:20231029T020000
RDATE:20240331T030000
TZOFFSETFROM:+0200
TZOFFSETTO:+0100
TZNAME:Europe/Berlin CET
END:STANDARD
BEGIN:STANDARD
DTSTART:20241027T020000
RDATE:20250330T030000
TZOFFSETFROM:+0200
TZOFFSETTO:+0100
TZNAME:Europe/Berlin CET
END:STANDARD
BEGIN:STANDARD
DTSTART:20251026T020000
RDATE:20260329T030000
TZOFFSETFROM:+0200
TZOFFSETTO:+0100
TZNAME:Europe/Berlin CET
END:STANDARD
BEGIN:STANDARD
DTSTART:20261025T020000
RDATE:20270328T030000
TZOFFSETFROM:+0200
TZOFFSETTO:+0100
TZNAME:Europe/Berlin CET
END:STANDARD
BEGIN:DAYLIGHT
DTSTART:20230721T180000
RDATE:20231029T020000
TZOFFSETFROM:+0100
TZOFFSETTO:+0200
TZNAME:Europe/Berlin CEST
END:DAYLIGHT
BEGIN:DAYLIGHT
DTSTART:20240331T030000
RDATE:20241027T020000
TZOFFSETFROM:+0100
TZOFFSETTO:+0200
TZNAME:Europe/Berlin CEST
END:DAYLIGHT
BEGIN:DAYLIGHT
DTSTART:20250330T030000
RDATE:20251026T020000
TZOFFSETFROM:+0100
TZOFFSETTO:+0200
TZNAME:Europe/Berlin CEST
END:DAYLIGHT
BEGIN:DAYLIGHT
DTSTART:20260329T030000
RDATE:20261025T020000
TZOFFSETFROM:+0100
TZOFFSETTO:+0200
TZNAME:Europe/Berlin CEST
END:DAYLIGHT
END:VTIMEZONE
BEGIN:VEVENT
UID:36a08f2b396bb1a461c3393ced9e2441
CATEGORIES:Musikgottesdienst
CREATED:20240707T142037
SUMMARY:ABENDGOTTESDIENST mit klassischer Musik || ERLÖSERKIRCHE Frankfurt-Oberrad
LOCATION:: Erlöserkirche Oberrad (Wiener Straße 23\, 60599 Frankfurt-Oberrad)
URL;VALUE=URI:https://www.kirchenmusik-dreikoenig.de/de/konzertprogramm/konzertkalender/E
 ventdetail/252/-/abendgottesdienst-mit-klassischer-musik-erloeserkirche-fra
 nkfurt-oberrad?tmpl=component
DESCRIPTION:Sonntag, 21.07.2024, 18:00 Uhr,\nEv.-Luth. Erlöserkirche Frankfurt am Main-
 Oberrad (https://erloesergemeinde-oberrad.ekhn.de/startseite.html)\n(Wiener
  Straße 23, 60599 Frankfurt)\nAbendgottesdienst im Nachbarschaftsraum\nmit 
 klassischer Musik und anschließendem Grillen\n(Im Rahmen der Sommerkirche 2
 024)\nPfarrerinnen Anne-Katrin Helms und Mirjam Raupp | Liturgie und Predig
 t\nAndreas Köhs | Orgel\n \n Dieser Event wurde importiert von: https://www
 .kirchenmusik-dreikoenig.de/de/konzertprogramm/konzertkalender/Eventdetail/
 252/-/abendgottesdienst-mit-klassischer-musik-erloeserkirche-frankfurt-ober
 rad?tmpl=component (https://www.kirchenmusik-dreikoenig.de/de/konzertprogra
 mm/konzertkalender/Eventdetail/252/-/abendgottesdienst-mit-klassischer-musi
 k-erloeserkirche-frankfurt-oberrad?tmpl=component)
X-ALT-DESC;FMTTYPE=text/html:<p><strong>Sonntag, 21.07.2024, 18:00 Uhr,</strong><br /><strong><a href="h
 ttps://erloesergemeinde-oberrad.ekhn.de/startseite.html" target="_blank" re
 l="noopener noreferrer" title="Ev.-Luth. Erlöserkirche Frankfurt am Main-Ob
 errad (Wiener Straße 23, 60599 Frankfurt-Oberrad)">Ev.-Luth. Erlöserkirche 
 Frankfurt am Main-Oberrad</a><a title="Ev.-Luth. Erlöserkirche Frankfurt am
  Main-Oberrad (Wiener Straße 23, 60499 Frankfurt)"><br /></a></strong>(Wien
 er Straße 23, 60599 Frankfurt)</p><h4 style="text-align: left;"><strong>Abe
 ndgottesdienst im Nachbarschaftsraum<br /></strong></h4><p><strong>mit klas
 sischer Musik und anschließendem Grillen<br />(Im Rahmen der Sommerkirche 2
 024)<br /></strong>Pfarrerinnen Anne-Katrin Helms und Mirjam Raupp | Liturg
 ie und Predigt<br />Andreas Köhs | Orgel</p><p>&nbsp;</p><hr /> <a href="ht
 tps://www.kirchenmusik-dreikoenig.de/de/konzertprogramm/konzertkalender/Eve
 ntdetail/252/-/abendgottesdienst-mit-klassischer-musik-erloeserkirche-frank
 furt-oberrad?tmpl=component">Dieser Event wurde importiert von: https://www
 .kirchenmusik-dreikoenig.de/de/konzertprogramm/konzertkalender/Eventdetail/
 252/-/abendgottesdienst-mit-klassischer-musik-erloeserkirche-frankfurt-ober
 rad?tmpl=component</a>DTSTAMP:20260424T182158
DTSTART;TZID=Europe/Berlin:20240721T180000
DTEND;TZID=Europe/Berlin:20240721T190000
SEQUENCE:0
TRANSP:OPAQUE
END:VEVENT
END:VCALENDAR