BEGIN:VCALENDAR
VERSION:2.0
PRODID:-//jEvents 2.0 for Joomla//EN
CALSCALE:GREGORIAN
METHOD:PUBLISH
BEGIN:VTIMEZONE
TZID:Europe/Berlin
BEGIN:STANDARD
DTSTART:20240209T093000
RDATE:20240331T030000
TZOFFSETFROM:+0200
TZOFFSETTO:+0100
TZNAME:Europe/Berlin CET
END:STANDARD
BEGIN:STANDARD
DTSTART:20241027T020000
RDATE:20250330T030000
TZOFFSETFROM:+0200
TZOFFSETTO:+0100
TZNAME:Europe/Berlin CET
END:STANDARD
BEGIN:STANDARD
DTSTART:20251026T020000
RDATE:20260329T030000
TZOFFSETFROM:+0200
TZOFFSETTO:+0100
TZNAME:Europe/Berlin CET
END:STANDARD
BEGIN:STANDARD
DTSTART:20261025T020000
RDATE:20270328T030000
TZOFFSETFROM:+0200
TZOFFSETTO:+0100
TZNAME:Europe/Berlin CET
END:STANDARD
BEGIN:DAYLIGHT
DTSTART:20240331T030000
RDATE:20241027T020000
TZOFFSETFROM:+0100
TZOFFSETTO:+0200
TZNAME:Europe/Berlin CEST
END:DAYLIGHT
BEGIN:DAYLIGHT
DTSTART:20250330T030000
RDATE:20251026T020000
TZOFFSETFROM:+0100
TZOFFSETTO:+0200
TZNAME:Europe/Berlin CEST
END:DAYLIGHT
BEGIN:DAYLIGHT
DTSTART:20260329T030000
RDATE:20261025T020000
TZOFFSETFROM:+0100
TZOFFSETTO:+0200
TZNAME:Europe/Berlin CEST
END:DAYLIGHT
END:VTIMEZONE
BEGIN:VEVENT
UID:e42c1962c532f1506384e14f8c2ccb54
CATEGORIES:Musikgottesdienst
CREATED:20241011T190526
SUMMARY:ZDF-FERNSEH-GOTTESDIENST || DREIKÖNIGSKIRCHE Frankfurt
LOCATION:: Dreikönigskirche Frankfurt am Main (Sachsenhäuser Ufer | Nähe Eiserner St
 eg)
URL;VALUE=URI:https://kirchenmusik-dreikoenig.de/de/konzertprogramm/konzertkalender/Event
 detail/257/-/zdf-fernseh-gottesdienst-dreikoenigskirche-frankfurt?tmpl=comp
 onent
DESCRIPTION:<p style="text-align: left;"><strong>Sonntag, 09.02.2025, 09:30 Uhr<br /></
 strong>(4. Sonntag vor der Passionszeit)<strong><br /><a title="Dreikönigsk
 irche Frankfurt am Main (Sachsenhäuser Mainufer, Nähe Eiserner Steg)">Dreik
 önigskirche Frankfurt am Main</a></strong></p><h4 style="text-align: left;"
 ><strong>ZDF-Fernsehgottesdienst</strong></h4><hr /><p>Die Besucherinnen un
 d Besucher werden gebeten, <br /><strong>spätestens 09:00 Uhr in der Kirche
 </strong> zu sein, um die Fernsehübertragung reibungslos gestalten zu könne
 n. <br />Vielen Dank für Ihre Unterstützung.</p><hr /><p style="text-align:
  left;">Kinderchor der Erlösergemeinde Oberrad<br />Matthias Helms | Leitun
 g<br />Andreas Köhs | Musikalische Leitung, Klavier und Orgel<br />Pfarreri
 n Anne-Katrin Helms,<br />Pfarrer Martin Vorländer und Team</p><hr /> <a hr
 ef="https://kirchenmusik-dreikoenig.de/de/konzertprogramm/konzertkalender/E
 ventdetail/257/-/zdf-fernseh-gottesdienst-dreikoenigskirche-frankfurt?tmpl=
 component">Dieser Event wurde importiert von: https://kirchenmusik-dreikoen
 ig.de/de/konzertprogramm/konzertkalender/Eventdetail/257/-/zdf-fernseh-gott
 esdienst-dreikoenigskirche-frankfurt?tmpl=component</a>DTSTAMP:20260423T181636
DTSTART;TZID=Europe/Berlin:20250209T093000
DTEND;TZID=Europe/Berlin:20250209T103000
SEQUENCE:0
TRANSP:OPAQUE
END:VEVENT
END:VCALENDAR