BEGIN:VCALENDAR
VERSION:2.0
PRODID:-//jEvents 2.0 for Joomla//EN
CALSCALE:GREGORIAN
METHOD:PUBLISH
BEGIN:VTIMEZONE
TZID:Europe/Berlin
BEGIN:STANDARD
DTSTART:20241027T020000
RDATE:20250330T030000
TZOFFSETFROM:+0200
TZOFFSETTO:+0100
TZNAME:Europe/Berlin CET
END:STANDARD
BEGIN:STANDARD
DTSTART:20251026T020000
RDATE:20260329T030000
TZOFFSETFROM:+0200
TZOFFSETTO:+0100
TZNAME:Europe/Berlin CET
END:STANDARD
BEGIN:STANDARD
DTSTART:20261025T020000
RDATE:20270328T030000
TZOFFSETFROM:+0200
TZOFFSETTO:+0100
TZNAME:Europe/Berlin CET
END:STANDARD
BEGIN:DAYLIGHT
DTSTART:20241025T120000
RDATE:20241027T020000
TZOFFSETFROM:+0100
TZOFFSETTO:+0200
TZNAME:Europe/Berlin CEST
END:DAYLIGHT
BEGIN:DAYLIGHT
DTSTART:20250330T030000
RDATE:20251026T020000
TZOFFSETFROM:+0100
TZOFFSETTO:+0200
TZNAME:Europe/Berlin CEST
END:DAYLIGHT
BEGIN:DAYLIGHT
DTSTART:20260329T030000
RDATE:20261025T020000
TZOFFSETFROM:+0100
TZOFFSETTO:+0200
TZNAME:Europe/Berlin CEST
END:DAYLIGHT
END:VTIMEZONE
BEGIN:VEVENT
UID:7cdaa4207ee00ea402615bb8ce2450ca
CATEGORIES:Kantatengottesdienst
CREATED:20241011T192948
SUMMARY:KANTATENGOTTESDIENST | BWV 180 || DREIKÖNIGSKIRCHE
LOCATION:: Dreikönigskirche Frankfurt am Main (Sachsenhäuser Ufer | Nähe Eiserner St
 eg)
URL;VALUE=URI:https://kirchenmusik-dreikoenig.de/de/konzertprogramm/konzertkalender/Event
 detail/272/-/kantatengottesdienst-bwv-180-dreikoenigskirche?tmpl=component
DESCRIPTION:Sonntag, 26.10.2025, 11:00 Uhr\n(19. Sonntag nach Trinitatis)\nDreikönigski
 rche Frankfurt am Main\nKantatengottesdienst Johann Sebastian Bach (1685-17
 50)\n"Schmücke dich, o liebe Seele" | BWV 180\n Dieser Event wurde importie
 rt von: https://kirchenmusik-dreikoenig.de/de/konzertprogramm/konzertkalend
 er/Eventdetail/272/-/kantatengottesdienst-bwv-180-dreikoenigskirche?tmpl=co
 mponent
X-ALT-DESC;FMTTYPE=text/html:<p style="text-align: left;"><strong>Sonntag, 26.10.2025, 11:00 Uhr</strong
 ><br />(19. Sonntag nach Trinitatis)<br /><strong><a title="Dreikönigskirch
 e Frankfurt am Main (Sachsenhäuser Mainufer, Nähe Eiserner Steg)">Dreikönig
 skirche Frankfurt am Main</a></strong></p><h4 style="text-align: left;"><st
 rong>Kantatengottesdienst&nbsp;</strong></h4><p style="text-align: left;"><
 strong>Johann Sebastian Bach</strong> (1685-1750)<br /><strong>"Schmücke di
 ch, o liebe Seele"</strong> | BWV 180</p><hr /> <a href="https://kirchenmus
 ik-dreikoenig.de/de/konzertprogramm/konzertkalender/Eventdetail/272/-/kanta
 tengottesdienst-bwv-180-dreikoenigskirche?tmpl=component">Dieser Event wurd
 e importiert von: https://kirchenmusik-dreikoenig.de/de/konzertprogramm/kon
 zertkalender/Eventdetail/272/-/kantatengottesdienst-bwv-180-dreikoenigskirc
 he?tmpl=component</a>DTSTAMP:20260424T024103
DTSTART;TZID=Europe/Berlin:20251026T110000
DTEND;TZID=Europe/Berlin:20251026T123000
SEQUENCE:0
TRANSP:OPAQUE
END:VEVENT
END:VCALENDAR