BEGIN:VCALENDAR
VERSION:2.0
PRODID:-//jEvents 2.0 for Joomla//EN
CALSCALE:GREGORIAN
METHOD:PUBLISH
BEGIN:VTIMEZONE
TZID:Europe/Berlin
BEGIN:STANDARD
DTSTART:20241129T170000
RDATE:20250330T030000
TZOFFSETFROM:+0200
TZOFFSETTO:+0100
TZNAME:Europe/Berlin CET
END:STANDARD
BEGIN:STANDARD
DTSTART:20251026T020000
RDATE:20260329T030000
TZOFFSETFROM:+0200
TZOFFSETTO:+0100
TZNAME:Europe/Berlin CET
END:STANDARD
BEGIN:STANDARD
DTSTART:20261025T020000
RDATE:20270328T030000
TZOFFSETFROM:+0200
TZOFFSETTO:+0100
TZNAME:Europe/Berlin CET
END:STANDARD
BEGIN:DAYLIGHT
DTSTART:20250330T030000
RDATE:20251026T020000
TZOFFSETFROM:+0100
TZOFFSETTO:+0200
TZNAME:Europe/Berlin CEST
END:DAYLIGHT
BEGIN:DAYLIGHT
DTSTART:20260329T030000
RDATE:20261025T020000
TZOFFSETFROM:+0100
TZOFFSETTO:+0200
TZNAME:Europe/Berlin CEST
END:DAYLIGHT
END:VTIMEZONE
BEGIN:VEVENT
UID:872741e2dc8a2984f7b46f05b39b862b
CATEGORIES:Oratorienkonzert zum 1. Advent
CREATED:20241011T193303
SUMMARY:MONTEVERDI | MARIENVESPER (1610) || KURT-THOMAS-KAMMERCHOR || DREIKÖNIGSKIRCHE Frankfurt am Main
LOCATION:: Dreikönigskirche Frankfurt am Main (Sachsenhäuser Ufer | Nähe Eiserner St
 eg)
URL;VALUE=URI:https://kirchenmusik-dreikoenig.de/de/konzertprogramm/konzertkalender/Event
 detail/275/-/monteverdi-marienvesper-1610-kurt-thomas-kammerchor-dreikoenig
 skirche-frankfurt-am-main?tmpl=component
DESCRIPTION:<p style="text-align: left;"><strong>Sonntag, 30.11.2025, 17:00 Uhr</strong
 ><br />(1. Advent)<br /><strong><a title="Dreikönigskirche Frankfurt am Mai
 n (Sachsenhäuser Mainufer, Nähe Eiserner Steg)">Dreikönigskirche Frankfurt 
 am Main</a></strong></p><h4 style="text-align: left;"><strong>Claudio Monte
 verdi </strong>(1567-1643)<br /><strong>Marienvesper (1610)</strong></h4><h
 5><strong>(Vespro della Beata Vergine) </strong></h5><p style="text-align: 
 left;"><strong>Natasha Goldberg</strong> | Sopran<br /><strong>Simone Schwa
 rk</strong> | Sopran<br /><strong>Georg Poplutz</strong>&nbsp;| Tenor<br />
 <strong>Christian Rathgeber</strong> | Tenor<br /><strong>Konstantin Pagane
 tti</strong> | Bass<br /><strong>Christoph Kögel</strong> | Bass</p><p styl
 e="text-align: left;"><strong>KURT-THOMAS-KAMMERCHOR</strong><br /><a href=
 "http://www.kurt-thomas-kammerchor.de" target="_blank" rel="alternate noope
 ner noreferrer" title="www.kurt-thomas-kammerchor.de">www.kurt-thomas-kamme
 rchor.de</a><br /><strong>Telemann-Ensemble Frankfurt</strong><br /><strong
 >Andreas Köhs</strong> | Leitung</p><p><strong><i class="fas fa-ticket"></i
 > Tickets</strong>: 35 EUR | ermäßigt 25 EUR<br /><strong><i class="fas fa-
 ticket"></i> Kartenvorverkauf</strong> via Frankfurt-Ticket RheinMain (zzgl
 . Vorverkaufsgebühr):<br /><strong><a href="https://www.frankfurtticket.de/
 tickets/claudio-monteverdi-marienvesper-1610-8958.71435/" target="_blank" r
 el="noopener" class="btn btn-sm btn-primary" title="Ticket-Online: MONTEVER
 DI | MARIENVESPER (1610) | 1. Adventssonntag, 30.11.2025 | 17:00 Uhr | Drei
 königskirche || via Frankfurt-Ticket RheinMain (zzgl. Vorverkaufsgebühr)">T
 icket-Online: MONTEVERDI | MARIENVESPER (1610) | 1. Adventssonntag, 30.11.2
 025 | 17:00 Uhr | Dreikönigskirche</a></strong></p><p>&nbsp;</p><hr /> <a h
 ref="https://kirchenmusik-dreikoenig.de/de/konzertprogramm/konzertkalender/
 Eventdetail/275/-/monteverdi-marienvesper-1610-kurt-thomas-kammerchor-dreik
 oenigskirche-frankfurt-am-main?tmpl=component">Dieser Event wurde importier
 t von: https://kirchenmusik-dreikoenig.de/de/konzertprogramm/konzertkalende
 r/Eventdetail/275/-/monteverdi-marienvesper-1610-kurt-thomas-kammerchor-dre
 ikoenigskirche-frankfurt-am-main?tmpl=component</a>DTSTAMP:20260423T181627
DTSTART;TZID=Europe/Berlin:20251130T170000
DTEND;TZID=Europe/Berlin:20251130T190000
SEQUENCE:0
TRANSP:OPAQUE
END:VEVENT
END:VCALENDAR