BEGIN:VCALENDAR
VERSION:2.0
PRODID:-//jEvents 2.0 for Joomla//EN
CALSCALE:GREGORIAN
METHOD:PUBLISH
BEGIN:VTIMEZONE
TZID:Europe/Berlin
BEGIN:STANDARD
DTSTART:20241230T220000
RDATE:20250330T030000
TZOFFSETFROM:+0200
TZOFFSETTO:+0100
TZNAME:Europe/Berlin CET
END:STANDARD
BEGIN:STANDARD
DTSTART:20251026T020000
RDATE:20260329T030000
TZOFFSETFROM:+0200
TZOFFSETTO:+0100
TZNAME:Europe/Berlin CET
END:STANDARD
BEGIN:STANDARD
DTSTART:20261025T020000
RDATE:20270328T030000
TZOFFSETFROM:+0200
TZOFFSETTO:+0100
TZNAME:Europe/Berlin CET
END:STANDARD
BEGIN:DAYLIGHT
DTSTART:20250330T030000
RDATE:20251026T020000
TZOFFSETFROM:+0100
TZOFFSETTO:+0200
TZNAME:Europe/Berlin CEST
END:DAYLIGHT
BEGIN:DAYLIGHT
DTSTART:20260329T030000
RDATE:20261025T020000
TZOFFSETFROM:+0100
TZOFFSETTO:+0200
TZNAME:Europe/Berlin CEST
END:DAYLIGHT
END:VTIMEZONE
BEGIN:VEVENT
UID:7b6a1a92d68517430437d019c7bae7ce
CATEGORIES:Silvesterkonzert
CREATED:20241011T193850
SUMMARY:SILVESTERKONZERT 2025 || Mit Pauken und Trompeten ins Neue Jahr || DREIKÖNIGSKIRCHE
LOCATION:: Dreikönigskirche Frankfurt am Main (Sachsenhäuser Ufer | Nähe Eiserner St
 eg)
URL;VALUE=URI:https://kirchenmusik-dreikoenig.de/de/konzertprogramm/konzertkalender/Event
 detail/278/-/silvesterkonzert-2025-mit-pauken-und-trompeten-ins-neue-jahr-d
 reikoenigskirche?tmpl=component
DESCRIPTION:<p style="text-align: left;"><strong>Mittwoch, 31.12.2025, 22:00 Uhr</stron
 g> <br />(Silvester)<br /><strong><a title="Dreikönigskirche Frankfurt am M
 ain (Sachsenhäuser Mainufer, Nähe Eiserner Steg)">Dreikönigskirche Frankfur
 t am Main</a></strong></p><h4 style="text-align: left;"><strong>SILVESTERKO
 NZERT 2025</strong></h4><h6 style="text-align: left;"><strong><strong>Mit P
 auken und Trompeten ins Neue Jahr</strong></strong></h6><p><strong>Zum Absc
 hluss traditionell: </strong><br /><strong>Georg Friedrich Händel</strong> 
 (1685-1759) <br /><strong>Music for the Royal Fireworks (Feuerwerksmusik)</
 strong> | HWV 351<br />in einer Bearbeitung für Trompeten, Pauken und Orgel
 </p><p style="text-align: left;"><strong><i class="fas fa-ticket"></i> Tick
 ets</strong>: 20 EUR | ermäßigt 15 EUR<br /><strong><i class="fas fa-ticket
 "></i> Kartenvorverkauf</strong> via Frankfurt-Ticket RheinMain (zzgl. Vorv
 erkaufsgebühr):<br /><strong><a href="https://www.frankfurtticket.de/ticket
 s/silvesterkonzert-2025-10182.71436" target="_blank" rel="noopener" class="
 btn btn-sm btn-primary" title="Ticket-Online: SILVESTERKONZERT 2025 | Mittw
 och (Silvester), 31.12.2025 | 22:00 Uhr | Dreikönigskirche || via Frankfurt
 -Ticket RheinMain (zzgl. Vorverkaufsgebühr)">Ticket-Online: SILVESTERKONZER
 T 2025 | Mittwoch (Silvester), 31.12.2025 | 22:00 Uhr | Dreikönigskirche</a
 ></strong></p><hr /> <a href="https://kirchenmusik-dreikoenig.de/de/konzert
 programm/konzertkalender/Eventdetail/278/-/silvesterkonzert-2025-mit-pauken
 -und-trompeten-ins-neue-jahr-dreikoenigskirche?tmpl=component">Dieser Event
  wurde importiert von: https://kirchenmusik-dreikoenig.de/de/konzertprogram
 m/konzertkalender/Eventdetail/278/-/silvesterkonzert-2025-mit-pauken-und-tr
 ompeten-ins-neue-jahr-dreikoenigskirche?tmpl=component</a>DTSTAMP:20260423T181706
DTSTART;TZID=Europe/Berlin:20251231T220000
DTEND;TZID=Europe/Berlin:20251231T231500
SEQUENCE:0
TRANSP:OPAQUE
END:VEVENT
END:VCALENDAR