BEGIN:VCALENDAR
VERSION:2.0
PRODID:-//jEvents 2.0 for Joomla//EN
CALSCALE:GREGORIAN
METHOD:PUBLISH
BEGIN:VTIMEZONE
TZID:Europe/Berlin
BEGIN:STANDARD
DTSTART:20251026T020000
RDATE:20260329T030000
TZOFFSETFROM:+0200
TZOFFSETTO:+0100
TZNAME:Europe/Berlin CET
END:STANDARD
BEGIN:STANDARD
DTSTART:20261025T020000
RDATE:20270328T030000
TZOFFSETFROM:+0200
TZOFFSETTO:+0100
TZNAME:Europe/Berlin CET
END:STANDARD
BEGIN:DAYLIGHT
DTSTART:20250815T110000
RDATE:20251026T020000
TZOFFSETFROM:+0100
TZOFFSETTO:+0200
TZNAME:Europe/Berlin CEST
END:DAYLIGHT
BEGIN:DAYLIGHT
DTSTART:20260329T030000
RDATE:20261025T020000
TZOFFSETFROM:+0100
TZOFFSETTO:+0200
TZNAME:Europe/Berlin CEST
END:DAYLIGHT
END:VTIMEZONE
BEGIN:VEVENT
UID:a58dd955576f30e9d24ee6bf4fbdaef2
CATEGORIES:Kantatengottesdienst
CREATED:20251106T162531
SUMMARY:KANTATENGOTTESDIENST | BWV 35 || DREIKÖNIGSKIRCHE
LOCATION:: Dreikönigskirche Frankfurt am Main (Sachsenhäuser Ufer | Nähe Eiserner St
 eg)
URL;VALUE=URI:https://www.kirchenmusik-dreikoenig.de/de/konzertprogramm/konzertkalender/E
 ventdetail/306/-/kantatengottesdienst-bwv-35-dreikoenigskirche?tmpl=compone
 nt
DESCRIPTION:Sonntag, 16.08.2026, 11:00 Uhr\nDreikönigskirche Frankfurt am Main\nKantate
 ngottesdienstJohann Sebastian Bach (1685-1750)\n"Geist und Seele wird verwi
 rret" | BWV 35\n Dieser Event wurde importiert von: https://www.kirchenmusi
 k-dreikoenig.de/de/konzertprogramm/konzertkalender/Eventdetail/306/-/kantat
 engottesdienst-bwv-35-dreikoenigskirche?tmpl=component (https://www.kirchen
 musik-dreikoenig.de/de/konzertprogramm/konzertkalender/Eventdetail/306/-/ka
 ntatengottesdienst-bwv-35-dreikoenigskirche?tmpl=component)
X-ALT-DESC;FMTTYPE=text/html:<p style="text-align: left;"><strong>Sonntag, 16.08.2026, 11:00 Uhr</strong
 ><strong><br /><a title="Dreikönigskirche Frankfurt am Main (Sachsenhäuser 
 Mainufer, Nähe Eiserner Steg)">Dreikönigskirche Frankfurt am Main</a></stro
 ng></p><h4 style="text-align: left;"><strong>Kantatengottesdienst</strong><
 /h4><p style="text-align: left;"><strong>J</strong><strong>ohann Sebastian 
 Bach </strong>(1685-1750)<br /><strong>"Geist und Seele wird verwirret"</st
 rong> | BWV 35</p><hr /> <a href="https://www.kirchenmusik-dreikoenig.de/de
 /konzertprogramm/konzertkalender/Eventdetail/306/-/kantatengottesdienst-bwv
 -35-dreikoenigskirche?tmpl=component">Dieser Event wurde importiert von: ht
 tps://www.kirchenmusik-dreikoenig.de/de/konzertprogramm/konzertkalender/Eve
 ntdetail/306/-/kantatengottesdienst-bwv-35-dreikoenigskirche?tmpl=component
 </a>DTSTAMP:20260425T144440
DTSTART;TZID=Europe/Berlin:20260816T110000
DTEND;TZID=Europe/Berlin:20260816T123000
SEQUENCE:0
TRANSP:OPAQUE
END:VEVENT
END:VCALENDAR