BEGIN:VCALENDAR
VERSION:2.0
PRODID:-//jEvents 2.0 for Joomla//EN
CALSCALE:GREGORIAN
METHOD:PUBLISH
BEGIN:VTIMEZONE
TZID:Europe/Berlin
BEGIN:STANDARD
DTSTART:20251114T110000
RDATE:20260329T030000
TZOFFSETFROM:+0200
TZOFFSETTO:+0100
TZNAME:Europe/Berlin CET
END:STANDARD
BEGIN:STANDARD
DTSTART:20261025T020000
RDATE:20270328T030000
TZOFFSETFROM:+0200
TZOFFSETTO:+0100
TZNAME:Europe/Berlin CET
END:STANDARD
BEGIN:DAYLIGHT
DTSTART:20260329T030000
RDATE:20261025T020000
TZOFFSETFROM:+0100
TZOFFSETTO:+0200
TZNAME:Europe/Berlin CEST
END:DAYLIGHT
END:VTIMEZONE
BEGIN:VEVENT
UID:015f23250d9c70573f214efdd87e6a2e
CATEGORIES:Kantatengottesdienst
CREATED:20251106T163553
SUMMARY:KANTATENGOTTESDIENST zum Volkstrauertag | M. Weckmann || DREIKÖNIGSKIRCHE
LOCATION:: Dreikönigskirche Frankfurt am Main (Sachsenhäuser Ufer | Nähe Eiserner St
 eg)
URL;VALUE=URI:https://kirchenmusik-dreikoenig.de/de/konzertprogramm/konzertkalender/Event
 detail/312/-/kantatengottesdienst-zum-volkstrauertag-m-weckmann-dreikoenigs
 kirche?tmpl=component
DESCRIPTION:<p style="text-align: left;"><strong>Sonntag, 15.11.2026, 11:00 Uhr<br /></
 strong>(Volktrauertag)<strong><br /><a title="Dreikönigskirche Frankfurt am
  Main (Sachsenhäuser Mainufer, Nähe Eiserner Steg)">Dreikönigskirche Frankf
 urt am Main</a></strong></p><h4 style="text-align: left;"><strong>Kantateng
 ottesdienst</strong></h4><p style="text-align: left;"><strong>Matthias Weck
 mann</strong>&nbsp;(1619-1674)<br /><strong>"Wie liegt die Stadt so wüste"<
 /strong></p><hr /> <a href="https://kirchenmusik-dreikoenig.de/de/konzertpr
 ogramm/konzertkalender/Eventdetail/312/-/kantatengottesdienst-zum-volkstrau
 ertag-m-weckmann-dreikoenigskirche?tmpl=component">Dieser Event wurde impor
 tiert von: https://kirchenmusik-dreikoenig.de/de/konzertprogramm/konzertkal
 ender/Eventdetail/312/-/kantatengottesdienst-zum-volkstrauertag-m-weckmann-
 dreikoenigskirche?tmpl=component</a>DTSTAMP:20260423T181631
DTSTART;TZID=Europe/Berlin:20261115T110000
DTEND;TZID=Europe/Berlin:20261115T120000
SEQUENCE:0
TRANSP:OPAQUE
END:VEVENT
END:VCALENDAR