BEGIN:VCALENDAR
VERSION:2.0
PRODID:-//jEvents 2.0 for Joomla//EN
CALSCALE:GREGORIAN
METHOD:PUBLISH
BEGIN:VTIMEZONE
TZID:Europe/Berlin
BEGIN:STANDARD
DTSTART:20251128T170000
RDATE:20260329T030000
TZOFFSETFROM:+0200
TZOFFSETTO:+0100
TZNAME:Europe/Berlin CET
END:STANDARD
BEGIN:STANDARD
DTSTART:20261025T020000
RDATE:20270328T030000
TZOFFSETFROM:+0200
TZOFFSETTO:+0100
TZNAME:Europe/Berlin CET
END:STANDARD
BEGIN:DAYLIGHT
DTSTART:20260329T030000
RDATE:20261025T020000
TZOFFSETFROM:+0100
TZOFFSETTO:+0200
TZNAME:Europe/Berlin CEST
END:DAYLIGHT
END:VTIMEZONE
BEGIN:VEVENT
UID:b031cf45e2e8006069837838fc5ffc5e
CATEGORIES:Oratorienkonzert zum 1. Advent
CREATED:20251106T163735
SUMMARY:J. S. BACH | JAUCHZET - FROHLOCKET || KURT-THOMAS-KAMMERCHOR || DREIKÖNIGSKIRCHE Frankfurt am Main
LOCATION:: Dreikönigskirche Frankfurt am Main (Sachsenhäuser Ufer | Nähe Eiserner St
 eg)
URL;VALUE=URI:https://kirchenmusik-dreikoenig.de/de/konzertprogramm/konzertkalender/Event
 detail/313/-/j-s-bach-jauchzet-frohlocket-kurt-thomas-kammerchor-dreikoenig
 skirche-frankfurt-am-main?tmpl=component
DESCRIPTION:<p style="text-align: left;"><strong>Sonntag, 29.11.2026, 17:00 Uhr</strong
 ><br />(1. Advent)<br /><strong><a title="Dreikönigskirche Frankfurt am Mai
 n (Sachsenhäuser Mainufer, Nähe Eiserner Steg)">Dreikönigskirche Frankfurt 
 am Main</a></strong></p><h4 style="text-align: left;"><strong>Johann Sebast
 ian Bach&nbsp;</strong>(1685-1750)<br /><strong>Magnificat </strong>| BWV 2
 43</h4><h4><strong>Weihnachtsoratorium (Teil I)</strong> | BWV 248,1</h4><h
 5><strong>Weihnachtskantaten</strong><br /><strong>"Christen, ätzet diesen 
 Tag"</strong> | BWV 63<br /><strong>"Sie werden aus Saba alle kommen"</stro
 ng> | BWV 65</h5><p style="text-align: left;"><strong>Natasha Goldberg</str
 ong> | Sopran<br /><strong>Anne Bierwirth</strong>&nbsp;| Alt<br /><strong>
 Georg Poplutz</strong>&nbsp;| Tenor<br /><strong>Konstantin Paganetti</stro
 ng> | Bass</p><p style="text-align: left;"><strong>Kurt-Thomas-Kammerchor</
 strong><br /><a href="http://www.kurt-thomas-kammerchor.de" target="_blank"
  rel="alternate noopener noreferrer" title="www.kurt-thomas-kammerchor.de">
 www.kurt-thomas-kammerchor.de</a><br /><strong>Telemann-Ensemble Frankfurt<
 /strong><br /><strong>Andreas Köhs</strong> | Leitung<br /><a href="https:/
 /www.andreas-koehs.de" target="_blank" rel="noopener" title="www.andreas-ko
 ehs.de">www.andreas-koehs.de</a></p><hr /><p style="text-align: left;"><str
 ong><i class="fas fa-ticket"></i> Tickets</strong>: 35 EUR, ermäßigt 25 EUR
  (Abendkasse)<br /><strong><i class="fas fa-ticket"></i> Ticketsvorverkauf:
 &nbsp;</strong> via Frankfurt-Ticket RheinMain (zzgl. Vorverkaufsgebühr):<b
 r /><strong><a href="https://www.frankfurtticket.de/tickets/johann-sebastia
 n-bach-jauchzet-frohlocket-15494.75468/" target="_blank" rel="noopener" cla
 ss="btn btn-sm btn-primary" title="Ticket-Online: BACH | JAUCHZET - FROHLOC
 KET | 1. Adventssonntag, 29.11.2026 | 17:00 Uhr | Dreikönigskirche || via F
 rankfurt-Ticket RheinMain (zzgl. Vorverkaufsgebühr)">Ticket-Online: BACH | 
 JAUCHZET - FROHLOCKET | 1. Adventssonntag, 29.11.2026 | 17:00 Uhr | Dreikön
 igskirche</a></strong></p><p>&nbsp;</p><hr /> <a href="https://kirchenmusik
 -dreikoenig.de/de/konzertprogramm/konzertkalender/Eventdetail/313/-/j-s-bac
 h-jauchzet-frohlocket-kurt-thomas-kammerchor-dreikoenigskirche-frankfurt-am
 -main?tmpl=component">Dieser Event wurde importiert von: https://kirchenmus
 ik-dreikoenig.de/de/konzertprogramm/konzertkalender/Eventdetail/313/-/j-s-b
 ach-jauchzet-frohlocket-kurt-thomas-kammerchor-dreikoenigskirche-frankfurt-
 am-main?tmpl=component</a>DTSTAMP:20260424T015034
DTSTART;TZID=Europe/Berlin:20261129T170000
DTEND;TZID=Europe/Berlin:20261129T190000
SEQUENCE:0
TRANSP:OPAQUE
END:VEVENT
END:VCALENDAR