BEGIN:VCALENDAR
VERSION:2.0
PRODID:-//jEvents 2.0 for Joomla//EN
CALSCALE:GREGORIAN
METHOD:PUBLISH
BEGIN:VTIMEZONE
TZID:Europe/Berlin
BEGIN:STANDARD
DTSTART:20250313T170000
RDATE:20250330T030000
TZOFFSETFROM:+0200
TZOFFSETTO:+0100
TZNAME:Europe/Berlin CET
END:STANDARD
BEGIN:STANDARD
DTSTART:20251026T020000
RDATE:20260329T030000
TZOFFSETFROM:+0200
TZOFFSETTO:+0100
TZNAME:Europe/Berlin CET
END:STANDARD
BEGIN:STANDARD
DTSTART:20261025T020000
RDATE:20270328T030000
TZOFFSETFROM:+0200
TZOFFSETTO:+0100
TZNAME:Europe/Berlin CET
END:STANDARD
BEGIN:DAYLIGHT
DTSTART:20250330T030000
RDATE:20251026T020000
TZOFFSETFROM:+0100
TZOFFSETTO:+0200
TZNAME:Europe/Berlin CEST
END:DAYLIGHT
BEGIN:DAYLIGHT
DTSTART:20260329T030000
RDATE:20261025T020000
TZOFFSETFROM:+0100
TZOFFSETTO:+0200
TZNAME:Europe/Berlin CEST
END:DAYLIGHT
END:VTIMEZONE
BEGIN:VEVENT
UID:034293668d7eef4f70dc66336655edce
CATEGORIES:Musikalische Vesper | "Klangzeit"
CREATED:20251106T164549
SUMMARY:"KLANGZEIT" zur Passionszeit || DREIKÖNIGSKIRCHE Frankfurt
LOCATION:: Dreikönigskirche Frankfurt (Sachsenhäuser Ufer | Eiserner Steg)
URL;VALUE=URI:https://kirchenmusik-dreikoenig.de/de/konzertprogramm/konzertkalender/Event
 detail/319/-/klangzeit-zur-passionszeit-dreikoenigskirche-frankfurt?tmpl=co
 mponent
DESCRIPTION:Samstag, 14.03.2026, 17:00 Uhr\nDreikönigskirche Frankfurt am Main\n"Klangz
 eit" zur Passionszeit\nPosaunenquartett "Capella Tromboni" \nder Bläserschu
 le Frankfurt\nPfarrerin Johanna Bergner | Liturgie\n Dieser Event wurde imp
 ortiert von: https://kirchenmusik-dreikoenig.de/de/konzertprogramm/konzertk
 alender/Eventdetail/319/-/klangzeit-zur-passionszeit-dreikoenigskirche-fran
 kfurt?tmpl=component
X-ALT-DESC;FMTTYPE=text/html:<p style="text-align: left;"><strong>Samstag, 14.03.2026, 17:00 Uhr</strong
 ><strong><br /><a title="Dreikönigskirche Frankfurt am Main (Sachsenhäuser 
 Mainufer, Nähe Eiserner Steg)">Dreikönigskirche Frankfurt am Main</a></stro
 ng></p><h4 style="text-align: left;"><strong><em>"Klangzeit"</em> zur Passi
 onszeit<br /></strong></h4><p>Posaunenquartett "Capella Tromboni" <br />der
  Bläserschule Frankfurt<br />Pfarrerin Johanna Bergner | Liturgie</p><hr />
  <a href="https://kirchenmusik-dreikoenig.de/de/konzertprogramm/konzertkale
 nder/Eventdetail/319/-/klangzeit-zur-passionszeit-dreikoenigskirche-frankfu
 rt?tmpl=component">Dieser Event wurde importiert von: https://kirchenmusik-
 dreikoenig.de/de/konzertprogramm/konzertkalender/Eventdetail/319/-/klangzei
 t-zur-passionszeit-dreikoenigskirche-frankfurt?tmpl=component</a>DTSTAMP:20260423T031847
DTSTART;TZID=Europe/Berlin:20260314T170000
DTEND;TZID=Europe/Berlin:20260314T180000
SEQUENCE:0
TRANSP:OPAQUE
END:VEVENT
END:VCALENDAR